BEGIN:VCALENDAR
VERSION:2.0
PRODID:-//Canberra India Council - ECPv6.7.0//NONSGML v1.0//EN
CALSCALE:GREGORIAN
METHOD:PUBLISH
X-WR-CALNAME:Canberra India Council
X-ORIGINAL-URL:https://canberraindiacouncil.org
X-WR-CALDESC:Events for Canberra India Council
REFRESH-INTERVAL;VALUE=DURATION:PT1H
X-Robots-Tag:noindex
X-PUBLISHED-TTL:PT1H
BEGIN:VTIMEZONE
TZID:Australia/Sydney
BEGIN:STANDARD
TZOFFSETFROM:+1100
TZOFFSETTO:+1000
TZNAME:AEST
DTSTART:20220402T160000
END:STANDARD
BEGIN:DAYLIGHT
TZOFFSETFROM:+1000
TZOFFSETTO:+1100
TZNAME:AEDT
DTSTART:20221001T160000
END:DAYLIGHT
BEGIN:STANDARD
TZOFFSETFROM:+1100
TZOFFSETTO:+1000
TZNAME:AEST
DTSTART:20230401T160000
END:STANDARD
BEGIN:DAYLIGHT
TZOFFSETFROM:+1000
TZOFFSETTO:+1100
TZNAME:AEDT
DTSTART:20230930T160000
END:DAYLIGHT
BEGIN:STANDARD
TZOFFSETFROM:+1100
TZOFFSETTO:+1000
TZNAME:AEST
DTSTART:20240406T160000
END:STANDARD
BEGIN:DAYLIGHT
TZOFFSETFROM:+1000
TZOFFSETTO:+1100
TZNAME:AEDT
DTSTART:20241005T160000
END:DAYLIGHT
BEGIN:STANDARD
TZOFFSETFROM:+1100
TZOFFSETTO:+1000
TZNAME:AEST
DTSTART:20250405T160000
END:STANDARD
BEGIN:DAYLIGHT
TZOFFSETFROM:+1000
TZOFFSETTO:+1100
TZNAME:AEDT
DTSTART:20251004T160000
END:DAYLIGHT
TZID:UTC
BEGIN:STANDARD
TZOFFSETFROM:+0000
TZOFFSETTO:+0000
TZNAME:UTC
DTSTART:20240101T000000
END:STANDARD
END:VTIMEZONE
BEGIN:VEVENT
DTSTART;TZID=Australia/Sydney:20251017T173000
DTEND;TZID=Australia/Sydney:20251017T173000
DTSTAMP:20260420T080044
CREATED:20241109T091700Z
LAST-MODIFIED:20250823T133153Z
UID:2946-1760722200-1760722200@canberraindiacouncil.org
SUMMARY:Diwali Gala Dinner 2025
DESCRIPTION:✨ The Canberra Indian Council’s Annual Diwali Gala Dinner is Back! ✨ Don’t miss out on this spectacular evening — tickets are selling fast! \n\n\n\n📅 When: Friday\, 17 October 2025⏰ Time: Arrive by 5:30 PM for a 6:00 PM start📍 Where: The Abbey\, O’Hanlon Place\, Nicholls🎩 Dress Code: Strictly formal (black tie) or traditional Indian attire🎟️ Cost: $125 per ticket | Table of 10 for $1\,200💼 Premium Corporate Table of 10: $3\,000 \n\n\n\nTickets are on sale now on TryBooking. \n\n\n\nEvent Highlights ✨\n\n\n\n🍽️ Delicious Dining Experience: Indulge in exquisite entrees and a three-course dinner\, specially prepared by the master chefs at the Hyatt💃 Captivating Performances: Enjoy mesmerising Indian and Western dance acts🎶 Bollywood Beats: Dance the night away with a live DJ spinning your favourite hits🎤 Hosted by ABC Canberra’s Finest: Our dynamic MC will keep the night lively🎁 Exciting Raffle Prizes🤝 Exclusive Networking: Connect with key figures from Canberra’s business and cultural community \n\n\n\nThis is the premier event of the year for the Indian and subcontinental community in Canberra. Join us for an unforgettable Diwali celebration! \n\n\n\nSecure your spot now – we look forward to celebrating with you! 🎉
URL:https://canberraindiacouncil.org/event/diwali-dinner-gala-2024/
LOCATION:The Abbey ACT 2913\, O'Hanlon Pl\, Nicholls\, ACT\, 2913\, Australia
CATEGORIES:Dinner,Diwali
ATTACH;FMTTYPE=image/jpeg:https://canberraindiacouncil.org/wp-content/uploads/DGD-2025-flyer.jpg
ORGANIZER;CN="Canberra India Council":MAILTO:contact@canberraindiacouncil.org
END:VEVENT
BEGIN:VEVENT
DTSTART;TZID=Australia/Sydney:20250308T110000
DTEND;TZID=Australia/Sydney:20250308T150000
DTSTAMP:20260420T080044
CREATED:20240913T122635Z
LAST-MODIFIED:20250204T045716Z
UID:2903-1741431600-1741446000@canberraindiacouncil.org
SUMMARY:Holi Mela in Gungahlin Town Park 2025
DESCRIPTION:🎉 Celebrate Holi with Canberra India Council – A Free Event for All! 🎉 \n\n\n\nGet ready for the most vibrant celebration of the year! Join us at the Canberra India Council’s Holi Festival\, a FREE and family-friendly event filled with 🎶 music\, 🍴 food\, and 🌈 colours. Experience the joy of Holi\, the festival of colours\, with a Live DJ\, exciting Food Stalls\, and a fun-filled Colour Run for everyone to enjoy! \n\n\n\nWhether you want to 💃 dance to the beats\, indulge in mouth-watering Indian cuisine\, or just immerse yourself in the festival’s colours\, this is the perfect event to embrace the spirit of unity and joy. \n\n\n\nWhat to Expect: \n\n\n\n\n🎧 Live DJ: Dance to a mix of traditional and contemporary tunes.\n\n\n\n🍔 Food Stalls: Enjoy a variety of delicious Indian snacks and meals.\n\n\n\n🏃‍♂️🌈 Colour Run: Join in the fun as we celebrate with a splash of colour!\n\n\n\n\n📅 Date: 8th March⏰ Time: 11 AM – 3 PM📍 Location: Gungahlin Town Park\, Gungahlin \n\n\n\nBring your friends and family\, and don’t miss out on the chance to celebrate Holi in the heart of Canberra. Let’s spread joy and colour this Holi! 🌸🎨
URL:https://canberraindiacouncil.org/event/holi-mela-in-glebe-park-2/
LOCATION:Gungahlin town park\, Gungahlin town park\, Canberra
ATTACH;FMTTYPE=image/png:https://canberraindiacouncil.org/wp-content/uploads/Holi-2025-1.png
ORGANIZER;CN="Canberra India Council":MAILTO:contact@canberraindiacouncil.org
END:VEVENT
BEGIN:VEVENT
DTSTART;TZID=Australia/Sydney:20250208T170000
DTEND;TZID=Australia/Sydney:20250208T230000
DTSTAMP:20260420T080044
CREATED:20240913T121048Z
LAST-MODIFIED:20250204T050709Z
UID:2916-1739034000-1739055600@canberraindiacouncil.org
SUMMARY:India In The City 2025
DESCRIPTION:India In The City (IITC) is a key part of the National Multicultural Festival (NMF) which will be held on 8 February 2025 Saturday from 4:00 pm to 11 pm\, more details will be shared shortly.
URL:https://canberraindiacouncil.org/event/india-in-the-city-2025/
LOCATION:Civic Square Stage\, 180 London Cct\, Canberra ACT 2601\, Australia\, Canberra\, ACT\, 2601\, Australia
CATEGORIES:National Multicultural Festival
ATTACH;FMTTYPE=image/png:https://canberraindiacouncil.org/wp-content/uploads/IIC-Design.png
ORGANIZER;CN="Canberra India Council":MAILTO:contact@canberraindiacouncil.org
END:VEVENT
BEGIN:VEVENT
DTSTART;TZID=Australia/Sydney:20241003T170000
DTEND;TZID=Australia/Sydney:20241003T170000
DTSTAMP:20260420T080044
CREATED:20240917T082755Z
LAST-MODIFIED:20240917T124345Z
UID:2930-1727974800-1727974800@canberraindiacouncil.org
SUMMARY:Multicultural T20 Girls Cup
DESCRIPTION:
URL:https://canberraindiacouncil.org/event/multicultural-t20-girls-cup/
LOCATION:Bonner Oval\, Gungahlin\, ACT\, Bonner Oval Playground\, 2914\, Australia
ATTACH;FMTTYPE=image/jpeg:https://canberraindiacouncil.org/wp-content/uploads/Cricket-Tornament-Final-Poster-1.jpg
ORGANIZER;CN="Canberra India Council":MAILTO:contact@canberraindiacouncil.org
END:VEVENT
BEGIN:VEVENT
DTSTART;TZID=Australia/Sydney:20240324T110000
DTEND;TZID=Australia/Sydney:20240324T170000
DTSTAMP:20260420T080044
CREATED:20230804T131034Z
LAST-MODIFIED:20230809T051657Z
UID:2046-1711278000-1711299600@canberraindiacouncil.org
SUMMARY:Holi Mela 2024
DESCRIPTION:The Holi festival is celebrated in March each year to welcome the Spring season and celebrate festivity. CIC has been celebrating Holi for last 10 years or more. Next Holi Mela (Festival of colours) will be held on Sunday 24th March 2024 from 11am to 5pm in Glebe Park\, City. There will be food\, Holi colours and Liquor stalls\, a DJ and a lot of fun for everyone.
URL:https://canberraindiacouncil.org/event/holi-mela-2024/
LOCATION:Glebe Park\, Canberra City\, Glebe Park\, Canberra\, ACT\, 2601
ATTACH;FMTTYPE=image/jpeg:https://canberraindiacouncil.org/wp-content/uploads/c7a12c58-75bf-445a-a543-5e7d92da3343.jpg
ORGANIZER;CN="Canberra India Council":MAILTO:contact@canberraindiacouncil.org
END:VEVENT
BEGIN:VEVENT
DTSTART;TZID=Australia/Sydney:20240217T163000
DTEND;TZID=Australia/Sydney:20240217T163000
DTSTAMP:20260420T080044
CREATED:20230803T234934Z
LAST-MODIFIED:20230809T051546Z
UID:2004-1708187400-1708187400@canberraindiacouncil.org
SUMMARY:India In The City 2024
DESCRIPTION:India In The City (IITC) is a key part of the National Multicultural Festival (NMF) which will be held on Saturday 17 February 2023 Saturday from 4:30 pm to 11 pm at Stage 4 on Akuna Street\, City Walk. \n\n\n\nFill this form to Expression of interest: Click here
URL:https://canberraindiacouncil.org/event/india-in-the-city-2024/
LOCATION:Event Venue\, City Walk\, Akuna Street\, Canberra Akuna St Civic\, Canberra\, 2601\, Australia
CATEGORIES:India In The City 2024,National Multicultural Festival
ATTACH;FMTTYPE=image/png:https://canberraindiacouncil.org/wp-content/uploads/India-in-the-city-2024-1.png
ORGANIZER;CN="Canberra India Council":MAILTO:contact@canberraindiacouncil.org
END:VEVENT
BEGIN:VEVENT
DTSTART;TZID=Australia/Sydney:20231110T173000
DTEND;TZID=Australia/Sydney:20231110T223000
DTSTAMP:20260420T080044
CREATED:20230810T034402Z
LAST-MODIFIED:20241216T023454Z
UID:2115-1699637400-1699655400@canberraindiacouncil.org
SUMMARY:Diwali Dinner Gala 2023
DESCRIPTION:Diwali Gala Dinner 2023\n\n\n\n\n\nCanberra India Council (CIC) will celebrate “A Night to Shine” Diwali Gala Dinner on Friday\, 10 November 2023\, at the Hyatt Hotel Canberra. This gala evening is brought to you by CIC\, the proud producers of “India in the City” at the National Multicultural Festival (NMF) in February each year\, the annual Holi Mela in March/April\, and “The World Curry Festival.” Book your ticket now \n\n\n\n\n\n\n\n\n\n\n\n\n\n\n\n\n*This is a layout of the seating plan for the event. On the day of the event\, there might be possible changes to actual table placements at the discretion of the organiser.\n\n\n\n\n\n\n\n\n\n\n\n\n\n\n\n\n\n\n\n\n\n\n\n\n\n\n\n\n\n\n\n\n\n\n\n\n\n\n\n\n\n\n\n\n\n\n\n\n\n\n\n\n\n\n\n\n\n\n\n\n\n\nTickets are priced at $150 per person. Alcohol is not included\, the bar will be operational. \n\n\n\nDress Code: Black Tie or Traditional Smart Indian Attire\, No Jeans\, T-Shirts or Thongs. Entry could be denied.
URL:https://canberraindiacouncil.org/event/diwali-dinner-gala-2023/
LOCATION:Hyatt Hotel Canberra – A Park Hyatt Hotel\, 120 Commonwealth Ave\, Canberra\, ACT\, 2600\, Australia
CATEGORIES:Dinner,Diwali
ATTACH;FMTTYPE=image/jpeg:https://canberraindiacouncil.org/wp-content/uploads/Sold-Out.jpg
ORGANIZER;CN="Canberra India Council":MAILTO:contact@canberraindiacouncil.org
END:VEVENT
BEGIN:VEVENT
DTSTART;TZID=Australia/Sydney:20230324T110000
DTEND;TZID=Australia/Sydney:20230324T170000
DTSTAMP:20260420T080044
CREATED:20230113T034549Z
LAST-MODIFIED:20230805T121445Z
UID:1924-1679655600-1679677200@canberraindiacouncil.org
SUMMARY:Holi Mela in Glebe Park
DESCRIPTION:
URL:https://canberraindiacouncil.org/event/holi-mela-in-glebe-park/
LOCATION:ACT
ATTACH;FMTTYPE=image/jpeg:https://canberraindiacouncil.org/wp-content/uploads/2023/01/Holi-2.jpg
END:VEVENT
BEGIN:VEVENT
DTSTART;TZID=UTC:20240217T163000
DTEND;TZID=UTC:20240217T230000
DTSTAMP:20260420T080044
CREATED:20220808T165159Z
LAST-MODIFIED:20230803T125615Z
UID:1038-1708187400-1708210800@canberraindiacouncil.org
SUMMARY:India In The City (IITC) 2023
DESCRIPTION:India in the city 2024Download\n\n\n\n\n\nAfter another resounding success of “India In the City 2023” brought to you by the Canberra India Council (CIC ) as part of National Multicultural Festival (NMF)\, we are gearing up to bring to you another exiting edition of your most loved and praised signature event “India In the City (IITC) 2024“.   \n\n\n\nThe 26th anniversary of the National Multicultural Festival is nearly here\, so save your date as the festival will run from Friday 16 to Sunday 18 February 2024. We are excited to make “India in the City 2024” part of the memorable 26th-anniversary festival. “India in the City” will run on Saturday\, 17 February 2024\, from 4:30 pm to 11 pm. \n\n\n\nThe National Multicultural Festival is an iconic part of Canberra’s multicultural history and is now an event reflecting more than 170 unique nationalities. This festival is one of the most successful multicultural events in Australia.
URL:https://canberraindiacouncil.org/event/india-in-the-city-iitc-2023/
LOCATION:City walk\, Akuna Street\, Canberra\, Akuna St\, Civic\, ACT\, 2601\, Australia
CATEGORIES:National Multicultural Festival
ATTACH;FMTTYPE=image/jpeg:https://canberraindiacouncil.org/wp-content/uploads/2022/12/IITC-2023-1.jpg
ORGANIZER;CN="Canberra India Council":MAILTO:contact@canberraindiacouncil.org
END:VEVENT
BEGIN:VEVENT
DTSTART;TZID=Australia/Sydney:20221029T180000
DTEND;TZID=Australia/Sydney:20221029T230000
DTSTAMP:20260420T080044
CREATED:20220906T053005Z
LAST-MODIFIED:20230810T031704Z
UID:1441-1667066400-1667084400@canberraindiacouncil.org
SUMMARY:Diwali Gala Dinner 2022
DESCRIPTION:India in the City 20262\n\n\n\n\n\n\n\n\n\n\n\n\n\n\n\n\n\n\n\n\n\n\n\n\n\nBuy Tickets
URL:https://canberraindiacouncil.org/event/diwali-gala-dinner-2022/
LOCATION:Hyatt Hotel Canberra\, 120 Commonwealth Ave\, Canberra\, ACT\, 2600\, Australia
CATEGORIES:Dinner,Diwali
ATTACH;FMTTYPE=image/png:https://canberraindiacouncil.org/wp-content/uploads/2022/09/A-night-to-shine-Revised-Flyer.-1png.png
ORGANIZER;CN="Canberra India Council":MAILTO:contact@canberraindiacouncil.org
END:VEVENT
BEGIN:VEVENT
DTSTART;TZID=Australia/Sydney:20220930T210000
DTEND;TZID=Australia/Sydney:20221001T020000
DTSTAMP:20260420T080044
CREATED:20220904T081342Z
LAST-MODIFIED:20220929T013332Z
UID:1370-1664571600-1664589600@canberraindiacouncil.org
SUMMARY:Bollywood Night - Glow In The Dark
DESCRIPTION:Come one\, come all to Canberra’s biggest Bollywood Night! Get your glow-in-the-dark gear ready and groove to some of the best Hindi\, Punjabi and South Indian fusion beats. This is one night you don’t want to miss! Dress your best and prepare for a fun\, dancing and entertainment-filled night. \n\n\n\n*Please bring along your ID
URL:https://canberraindiacouncil.org/event/bollywood-night-glow-in-the-dark/
LOCATION:Mile High Club\, Canberra\, Level 4/17 London Cct\, Canberra\, ACT\, 2601\, Australia
ATTACH;FMTTYPE=image/png:https://canberraindiacouncil.org/wp-content/uploads/2022/09/facebook-event-bollywood-night.png
END:VEVENT
END:VCALENDAR